BEGIN:VCALENDAR
VERSION:2.0
PRODID:-//STARBOX - ECPv6.15.20//NONSGML v1.0//EN
CALSCALE:GREGORIAN
METHOD:PUBLISH
X-ORIGINAL-URL:https://starboxx.jp
X-WR-CALDESC:STARBOX のイベント
REFRESH-INTERVAL;VALUE=DURATION:PT1H
X-Robots-Tag:noindex
X-PUBLISHED-TTL:PT1H
BEGIN:VTIMEZONE
TZID:Asia/Tokyo
BEGIN:STANDARD
TZOFFSETFROM:+0900
TZOFFSETTO:+0900
TZNAME:JST
DTSTART:20230101T000000
END:STANDARD
END:VTIMEZONE
BEGIN:VEVENT
DTSTART;TZID=Asia/Tokyo:20241109T000000
DTEND;TZID=Asia/Tokyo:20241110T000000
DTSTAMP:20260424T231741
CREATED:20241010T012439Z
LAST-MODIFIED:20241010T012439Z
UID:37416-1731110400-1731196800@starboxx.jp
SUMMARY:French Bulldog LIVE⚡️2024 (フレブルLIVE)
DESCRIPTION:人が好き、犬が好き、にぎやかな場所が好き。 \nそれがフレンチブルドッグ。 \n  \nそんな彼らを愛するオーナーもまた、わいわい騒ぐのが好きだと知っていますよ？ \n「French Bulldog LIVE（フレブルLIVE）」は、 \nフレブルとヒトが共存するエンターテイメントを追求したリアルイベントです。 \nさぁ今年も、 \n行こうぜ、リアルに。 \n  \n＼ 昨年2023のアフターMovie！  ／
URL:https://starboxx.jp/event/french-bulldog-live%e2%9a%a1%ef%b8%8f2024-%e3%83%95%e3%83%ac%e3%83%96%e3%83%ablive/
LOCATION:山中湖交流プラザきらら「原っぱ」\, 南都留郡山中湖村平野４７９−２\, 山梨県\, 401-0502\, 日本
ATTACH;FMTTYPE=image/jpeg:https://starboxx.jp/wp-content/uploads/2024/10/FBLIVE2024_kv_insta.jpg
END:VEVENT
END:VCALENDAR