BEGIN:VCALENDAR
VERSION:2.0
PRODID:-//STARBOX - ECPv6.15.20//NONSGML v1.0//EN
CALSCALE:GREGORIAN
METHOD:PUBLISH
X-WR-CALNAME:STARBOX
X-ORIGINAL-URL:https://starboxx.jp
X-WR-CALDESC:STARBOX のイベント
REFRESH-INTERVAL;VALUE=DURATION:PT1H
X-Robots-Tag:noindex
X-PUBLISHED-TTL:PT1H
BEGIN:VTIMEZONE
TZID:Asia/Tokyo
BEGIN:STANDARD
TZOFFSETFROM:+0900
TZOFFSETTO:+0900
TZNAME:JST
DTSTART:20240101T000000
END:STANDARD
END:VTIMEZONE
BEGIN:VEVENT
DTSTART;TZID=Asia/Tokyo:20250322T100000
DTEND;TZID=Asia/Tokyo:20250322T160000
DTSTAMP:20260424T161837
CREATED:20241010T012752Z
LAST-MODIFIED:20250304T072928Z
UID:37419-1742637600-1742659200@starboxx.jp
SUMMARY:Boston Terrier Festival 2025
DESCRIPTION:※11月に雨天中止になってしまったイベントの代替開催が決定しました。 \n2018年から開催をしている本イベント、おかげ様で今回7回目を迎えます。 \n今回もフリーステッチ恒例コンテンツのチャリティ撮影会に加え、トレーナーさんたちによるレッスンやセミナー、50mスプリント＆ハードル、30mレース、犬まみれ撮影、家族でダッシュ撮影、そして豪華景品のあたる「チャリティがらポン」など、皆様に楽しんでいただけるような企画が盛りだくさんです。\n愛犬が思い切り走り回れるスペースや、ワンちゃんたちが安全に楽しめる広々としたドッグランをご用意いたします。また、トレーナーさんや講師による充実した体験型レッスンも用意しています。これらのレッスンでは、ワンちゃんとの生活の中でのヒントやトレーニングに関する貴重な知識を学び、オーナー様と愛犬の絆をさらに深めることができます。 \nさらに、このイベントはショッピングエリアや各コンテンツでの売上の一部はチャリティ活動にあてさせていただきます。皆様のご参加が、社会貢献にも繋がる特別な機会となります。 \nたくさんのボステリ友達と一緒に、忘れられない特別な１日を楽しみましょう。
URL:https://starboxx.jp/event/boston-terrier-festival-2025/
LOCATION:吉見運動公園\, 今泉141\, 比企郡吉見町\, 埼玉県\, 355-0103\, 日本
ATTACH;FMTTYPE=image/png:https://starboxx.jp/wp-content/uploads/2024/10/スクリーンショット-2025-03-04-162832.png
END:VEVENT
END:VCALENDAR