BEGIN:VCALENDAR
VERSION:2.0
PRODID:-//STARBOX - ECPv6.15.20//NONSGML v1.0//EN
CALSCALE:GREGORIAN
METHOD:PUBLISH
X-WR-CALNAME:STARBOX
X-ORIGINAL-URL:https://starboxx.jp
X-WR-CALDESC:STARBOX のイベント
REFRESH-INTERVAL;VALUE=DURATION:PT1H
X-Robots-Tag:noindex
X-PUBLISHED-TTL:PT1H
BEGIN:VTIMEZONE
TZID:Asia/Tokyo
BEGIN:STANDARD
TZOFFSETFROM:+0900
TZOFFSETTO:+0900
TZNAME:JST
DTSTART:20200101T000000
END:STANDARD
END:VTIMEZONE
BEGIN:VEVENT
DTSTART;TZID=Asia/Tokyo:20240506T100000
DTEND;TZID=Asia/Tokyo:20240506T160000
DTSTAMP:20260424T222124
CREATED:20240205T090010Z
LAST-MODIFIED:20240415T055623Z
UID:33178-1714989600-1715011200@starboxx.jp
SUMMARY:フレブルフェス2024 meets in 滋賀農業公園ブルーメの丘
DESCRIPTION:
URL:https://starboxx.jp/event/%e3%83%95%e3%83%ac%e3%83%96%e3%83%ab%e3%83%95%e3%82%a7%e3%82%b92024-meets/
LOCATION:滋賀農業公園ブルーメの丘\, 西大路８４３\, 蒲生郡日野町\, 滋賀県\, 529-1628\, 日本
CATEGORIES:meet up
ATTACH;FMTTYPE=image/jpeg:https://starboxx.jp/wp-content/uploads/2024/02/frebullfes_banner.jpg
END:VEVENT
BEGIN:VEVENT
DTSTART;TZID=Asia/Tokyo:20231209T100000
DTEND;TZID=Asia/Tokyo:20231209T160000
DTSTAMP:20260424T222124
CREATED:20230714T100041Z
LAST-MODIFIED:20230714T075828Z
UID:30441-1702116000-1702137600@starboxx.jp
SUMMARY:ボストンテリアフェスティバル2023
DESCRIPTION:2023年秋、4月に雨天により中止をしたボストンテリアの為のオフ会イベント、【Boston Terrier Festival 2023- Boston Terrier rooted in United States -】の代替開催が決まりました。 \nボストンテリアにフォーカスし1日を通して、お友達と一緒にお楽しみいただけるスペシャルなフェスティバルを今年も開催します。
URL:https://starboxx.jp/event/%e3%83%9c%e3%82%b9%e3%83%88%e3%83%b3%e3%83%86%e3%83%aa%e3%82%a2%e3%83%95%e3%82%a7%e3%82%b9%e3%83%86%e3%82%a3%e3%83%90%e3%83%ab2023/
LOCATION:吉見運動公園\, 今泉141\, 比企郡吉見町\, 埼玉県\, 355-0103\, 日本
CATEGORIES:meet up
ATTACH;FMTTYPE=image/jpeg:https://starboxx.jp/wp-content/uploads/2023/07/f994f5f03c9871b1d388553b03c5a2fd.jpg
END:VEVENT
BEGIN:VEVENT
DTSTART;TZID=Asia/Tokyo:20221120T100000
DTEND;TZID=Asia/Tokyo:20221120T160000
DTSTAMP:20260424T222124
CREATED:20220901T030047Z
LAST-MODIFIED:20221117T012727Z
UID:26343-1668938400-1668960000@starboxx.jp
SUMMARY:French Bulldog MEET UP 2022
DESCRIPTION:2022年11月20日（日）に吉見運動公園にてフレンチブルドッグの為のオフ会イベント【French Bulldog MEET UP 2022- French Bulldog rooted in France -】念願の第2回目の出店が決定しました。 \nMEET UP概要\nフレンチブルドッグにフォーカスし1日を通して、お友達と一緒にお楽しみいただけるスペシャルなフェスティバルを今年も開催します。\n前回は307名、179頭のワンちゃんにご参加いただきました！第2回目は前回以上にパワーアップしたスペシャルな1日となるよう企画しております。\nフレブルを愛するみなさま、ぜひご参加くださいませ。 \nチャリティ企画としてショッピングエリアやチャリティがらポン、撮影会なども開催し、お預かりした参加費や、お買い物の一部売上はチャリティ活動にあてさせていただきます。
URL:https://starboxx.jp/event/french-bulldog-meet-up-2022/
LOCATION:吉見運動公園\, 今泉141\, 比企郡吉見町\, 埼玉県\, 355-0103\, 日本
CATEGORIES:meet up
ATTACH;FMTTYPE=image/jpeg:https://starboxx.jp/wp-content/uploads/2022/09/MG_9661_2176_1224.jpg
END:VEVENT
BEGIN:VEVENT
DTSTART;TZID=Asia/Tokyo:20221112T100000
DTEND;TZID=Asia/Tokyo:20221112T160000
DTSTAMP:20260424T222124
CREATED:20220803T030036Z
LAST-MODIFIED:20220803T035315Z
UID:24959-1668247200-1668268800@starboxx.jp
SUMMARY:French Bulldog LIVE 2022 - 秋 -
DESCRIPTION:
URL:https://starboxx.jp/event/french-bulldog-live-2022-%e7%a7%8b/
LOCATION:山中湖交流プラザきらら「原っぱ」\, 南都留郡山中湖村平野４７９−２\, 山梨県\, 401-0502\, 日本
CATEGORIES:meet up
ATTACH;FMTTYPE=image/jpeg:https://starboxx.jp/wp-content/uploads/2022/08/FBLIVE_app_thum.jpg
END:VEVENT
BEGIN:VEVENT
DTSTART;TZID=Asia/Tokyo:20220416T100000
DTEND;TZID=Asia/Tokyo:20220416T163000
DTSTAMP:20260424T222124
CREATED:20220313T010047Z
LAST-MODIFIED:20220317T021600Z
UID:11006-1650103200-1650126600@starboxx.jp
SUMMARY:Boston Terrier Festival 2022
DESCRIPTION:  \n\nフリーステッチミートアップ ボストンテリア\n\n\n\n\nBoston Terrier Festival 2022\nボストンテリアの為のイベント、【Boston Terrier Festival 2022】\n\nボストンテリアにフォーカスし1日を通して、お友達と一緒にお楽しみいただけるスペシャルイベントです。\nイベントは大勢のご予約をいただいていたにもかかわらず、2年連続中止となってしまったリベンジ企画です。\n2020年、2021年のご予約をいただいていた方、当日参加を検討していただいていた皆さま、ぜひ2022年に集まりましょう！ \nチャリティ企画としてショッピングエリアやチャリティがらポン、撮影会なども開催し、お預かりした参加費や、お買い物の一部売上はチャリティ活動にあてさせていただきます。 \n開催内容、コンテンツ(撮影会や、トレーニングレッスン・セミナー、30m走等)につきましては随時、予約ページやfacebook、Instagramへアップしていきますので今しばらくお待ちくださいませ。 \n\n\n\n開催予定日:2022年4月16日(土) \n開催予定地:山中湖交流プラザきらら「原っぱ」 \n※雨天・荒天の場合にはイベントを中止とさせていただきます\n※最少催行人数は100名となります（開催1ヶ月前時点で集計） \n\n応募する
URL:https://starboxx.jp/event/boston-terrier-festival-2021/
LOCATION:山中湖交流プラザきらら「原っぱ」\, 南都留郡山中湖村平野４７９−２\, 山梨県\, 401-0502\, 日本
CATEGORIES:meet up
ATTACH;FMTTYPE=image/jpeg:https://starboxx.jp/wp-content/uploads/2021/08/e71f206f2a34c0cf51759a789b666a74-3-scaled.jpg
END:VEVENT
BEGIN:VEVENT
DTSTART;TZID=Asia/Tokyo:20211121T100000
DTEND;TZID=Asia/Tokyo:20211121T163000
DTSTAMP:20260424T222124
CREATED:20210817T014041Z
LAST-MODIFIED:20210821T133000Z
UID:11012-1637488800-1637512200@starboxx.jp
SUMMARY:French Bulldog MEET UP 2021(Autumn/Winter)
DESCRIPTION:  \n\nフリーステッチミートアップ フレンチブルドッグ \n\n\n\n\nFrench Bulldog MEET UP 2021(Autumn/Winter)\n\nフレンチブルドッグの為のイベント【French Bulldog MEET UP 2021(Autumn/Winter)】開催に向けての企画が始まりました。 \nフレンチブルドッグにフォーカスし1日を通して、お友達と一緒にお楽しみいただけるスペシャルオフ会です。\n前回は残念ながら中止という判断を致しましたが、今回こそはたくさん学んで、体験して、遊んで、お買いものをできるスペシャルな1日となるよう企画しております。\nフレブルを愛するみなさま、ぜひご参加くださいませ。 \nチャリティ企画としてショッピングエリアやチャリティがらポン、撮影会なども開催し、お預かりした参加費や、お買い物の一部売上はチャリティ活動にあてさせていただきます。 \n開催内容、コンテンツ(撮影会や、アジリティ体験、しつけセミナー等)につきましては随時、予約ページやfacebook、Instagramへアップしていきますので今しばらくお待ちくださいませ。 \n\n\n\n開催予定日: 2021年11月21日（日） \n開催予定地: \n第一候補：秋ヶ瀬公園(〒338-0835 埼玉県さいたま市桜区道場 4-17)\n第二候補：山中湖交流プラザきらら「原っぱ」(山梨県南都留郡山中湖村平野479-2)\n※9月頭決定予定 \n参加費: \n\n\n\n大人¥3\,000\n\n\n大人当日参加¥4\,000\n\n\n子供¥1\,000\n\n\n学割セット¥1\,000\n\n\n犬¥1\,000\n\n\n駐車場¥0\n\n\n未来のオーナーさん¥1\,000
URL:https://starboxx.jp/event/french-bulldog-meet-up-2021autumn-winter/
LOCATION:埼玉県
CATEGORIES:meet up
ATTACH;FMTTYPE=image/jpeg:https://starboxx.jp/wp-content/uploads/2021/08/MG_9477-1.jpg
END:VEVENT
END:VCALENDAR