BEGIN:VCALENDAR
VERSION:2.0
PRODID:-//STARBOX - ECPv6.15.20//NONSGML v1.0//EN
CALSCALE:GREGORIAN
METHOD:PUBLISH
X-WR-CALNAME:STARBOX
X-ORIGINAL-URL:https://starboxx.jp
X-WR-CALDESC:STARBOX のイベント
REFRESH-INTERVAL;VALUE=DURATION:PT1H
X-Robots-Tag:noindex
X-PUBLISHED-TTL:PT1H
BEGIN:VTIMEZONE
TZID:Asia/Tokyo
BEGIN:STANDARD
TZOFFSETFROM:+0900
TZOFFSETTO:+0900
TZNAME:JST
DTSTART:20210101T000000
END:STANDARD
END:VTIMEZONE
BEGIN:VEVENT
DTSTART;TZID=Asia/Tokyo:20250503T100000
DTEND;TZID=Asia/Tokyo:20250503T160000
DTSTAMP:20260424T081455
CREATED:20250424T001525Z
LAST-MODIFIED:20250424T001525Z
UID:39608-1746266400-1746288000@starboxx.jp
SUMMARY:イーノの森マルシェ ‐ボストンテリア犬種特化DAY-
DESCRIPTION:
URL:https://starboxx.jp/event/%e3%82%a4%e3%83%bc%e3%83%8e%e3%81%ae%e6%a3%ae%e3%83%9e%e3%83%ab%e3%82%b7%e3%82%a7-%e2%80%90%e3%83%9c%e3%82%b9%e3%83%88%e3%83%b3%e3%83%86%e3%83%aa%e3%82%a2%e7%8a%ac%e7%a8%ae%e7%89%b9%e5%8c%96day/
LOCATION:イーノの森Dog Garden\, 東京夢の島マリーナ内\, 江東区夢の島3-2-2\, 東京都\, Japan
CATEGORIES:マルシェ
ATTACH;FMTTYPE=image/jpeg:https://starboxx.jp/wp-content/uploads/2025/04/イーノの森.jpg
END:VEVENT
BEGIN:VEVENT
DTSTART;TZID=Asia/Tokyo:20250419T100000
DTEND;TZID=Asia/Tokyo:20250419T160000
DTSTAMP:20260424T081455
CREATED:20250409T012911Z
LAST-MODIFIED:20250409T012922Z
UID:39413-1745056800-1745078400@starboxx.jp
SUMMARY:イーノの森マルシェ -フレンチブルドッグ 犬種特化DAY-
DESCRIPTION:
URL:https://starboxx.jp/event/%e3%82%a4%e3%83%bc%e3%83%8e%e3%81%ae%e6%a3%ae%e3%83%9e%e3%83%ab%e3%82%b7%e3%82%a7-%e3%83%95%e3%83%ac%e3%83%b3%e3%83%81%e3%83%96%e3%83%ab%e3%83%89%e3%83%83%e3%82%b0-%e7%8a%ac%e7%a8%ae%e7%89%b9/
LOCATION:イーノの森Dog Garden\, 東京夢の島マリーナ内\, 江東区夢の島3-2-2\, 東京都\, Japan
CATEGORIES:マルシェ
END:VEVENT
BEGIN:VEVENT
DTSTART;TZID=Asia/Tokyo:20231119T100000
DTEND;TZID=Asia/Tokyo:20231119T170000
DTSTAMP:20260424T081455
CREATED:20230714T090019Z
LAST-MODIFIED:20230714T075355Z
UID:30438-1700388000-1700413200@starboxx.jp
SUMMARY:うぃずぶる×ぶる祭2023•秋🍂
DESCRIPTION:
URL:https://starboxx.jp/event/%e3%81%86%e3%81%83%e3%81%9a%e3%81%b6%e3%82%8bx%e3%81%b6%e3%82%8b%e7%a5%ad2023%e7%a7%8b%f0%9f%8d%82/
LOCATION:横浜・八景島シーパラダイス内イベント広場\, 八景島シーパラダイス\, 横浜市金沢区八景島\, 神奈川県\, 236-0006\, 日本
CATEGORIES:マルシェ
END:VEVENT
BEGIN:VEVENT
DTSTART;TZID=Asia/Tokyo:20230514T100000
DTEND;TZID=Asia/Tokyo:20230514T160000
DTSTAMP:20260424T081455
CREATED:20230424T023005Z
LAST-MODIFIED:20230509T023409Z
UID:29315-1684058400-1684080000@starboxx.jp
SUMMARY:わんてらすdogマルシェin昭島
DESCRIPTION:わんちゃんと泊まれるキャンプ場\n「やまてらす」(三重県いなべ市)で始まったドックマルシェ「わんてらす」。 \n今回は、アウトドアに関するお店や体験施設があるユニークな商業施設「モリパーク アウトドアヴィレッジ」で\n出張開催します。 \nわんちゃんとのお出かけに関するお店や\nキッチンカーのほか、特設ミニドックランもあります！ \n春はおでかけにぴったり。\nわんこも人もお出かけを楽しもう！
URL:https://starboxx.jp/event/%e3%82%8f%e3%82%93%e3%81%a6%e3%82%89%e3%81%99dog%e3%83%9e%e3%83%ab%e3%82%b7%e3%82%a7in%e6%98%ad%e5%b3%b6/
LOCATION:モリパーク アウトドアヴィレッジ\, 610-4\, 昭島市田中町\, 東京都\, 196-8533\, 日本
CATEGORIES:マルシェ
ATTACH;FMTTYPE=image/jpeg:https://starboxx.jp/wp-content/uploads/2023/04/image_8895065586376591165.jpg
END:VEVENT
BEGIN:VEVENT
DTSTART;TZID=Asia/Tokyo:20220612T100000
DTEND;TZID=Asia/Tokyo:20220612T160000
DTSTAMP:20260424T081455
CREATED:20220525T000002Z
LAST-MODIFIED:20220527T041636Z
UID:23477-1655028000-1655049600@starboxx.jp
SUMMARY:第三回わんてらす dog & outdoor マルシェ
DESCRIPTION:犬と泊まれるキャンプ場「やまてらす」が主催する\nわんこ同伴OKのマルシェイベントに出店いたします。 \nたくさんのお客様とお話しできたらと思っていますので、\n是非お立ち寄りいただければと思います！\nまた、ドッグランも開放するそうですので、1日遊べるイベントとなっております★ \n自然に囲まれた広大な土地で、都心のマルシェとは一味違う\n犬×アウトドア×地域×食 のマルシェ「わんてらす」をお楽しみください。
URL:https://starboxx.jp/event/wanterrace_vol3/
LOCATION:三重県いなべ市藤原町鼎728番地2 いなべ市梅林公園内\, いなべ市梅林公園内\, いなべ市藤原町鼎728番地2\, 三重県\, 日本
CATEGORIES:マルシェ
ATTACH;FMTTYPE=image/jpeg:https://starboxx.jp/wp-content/uploads/2022/05/oneterrace_vol3_catch.jpg
END:VEVENT
END:VCALENDAR