BEGIN:VCALENDAR
VERSION:2.0
PRODID:-//STARBOX - ECPv6.15.20//NONSGML v1.0//EN
CALSCALE:GREGORIAN
METHOD:PUBLISH
X-ORIGINAL-URL:https://starboxx.jp
X-WR-CALDESC:STARBOX のイベント
REFRESH-INTERVAL;VALUE=DURATION:PT1H
X-Robots-Tag:noindex
X-PUBLISHED-TTL:PT1H
BEGIN:VTIMEZONE
TZID:Asia/Tokyo
BEGIN:STANDARD
TZOFFSETFROM:+0900
TZOFFSETTO:+0900
TZNAME:JST
DTSTART:20240101T000000
END:STANDARD
END:VTIMEZONE
BEGIN:VEVENT
DTSTART;TZID=Asia/Tokyo:20250719T000000
DTEND;TZID=Asia/Tokyo:20250720T000000
DTSTAMP:20260424T193431
CREATED:20250619T025649Z
LAST-MODIFIED:20250619T064029Z
UID:40132-1752883200-1752969600@starboxx.jp
SUMMARY:Fall winter exibition2025　in Tokyo
DESCRIPTION:ご予約が無いお客様でもご入場いただけます。(ご予約頂けますとスムーズにご案内が可能です) \n今回の展示会は全商品8サイズ全てご試着可能となってございます。\n展開する全てのお色味もご覧頂けます。\n(展示会にて秋冬商品のご予約は、10%OFFにて承ります。) \n全ての会場が愛犬様と同伴入場が可能でございます。\n(ご来場時は、マナーパンツの着用をお願い致します。)\nお車でご来場の場合は、お近くの駐車場をご利用ください。 \n下記よりご来場予約をしていただけます。 \n[booking_package id=7]
URL:https://starboxx.jp/event/fall-winter-exibition2025%e3%80%80in-tokyo/
LOCATION:LAPIN ET HALOT\, 神宮前5-44-2\, 渋谷区\, 東京都\, 150-0001\, Japan
CATEGORIES:展示会
ATTACH;FMTTYPE=image/jpeg:https://starboxx.jp/wp-content/uploads/2025/06/tokyo_banner.jpg
END:VEVENT
BEGIN:VEVENT
DTSTART;TZID=Asia/Tokyo:20250726T000000
DTEND;TZID=Asia/Tokyo:20250727T000000
DTSTAMP:20260424T193431
CREATED:20250619T040122Z
LAST-MODIFIED:20250619T064051Z
UID:40141-1753488000-1753574400@starboxx.jp
SUMMARY:Fall winter exibition2025　in Osaka
DESCRIPTION:ご予約が無いお客様でもご入場いただけます。(ご予約頂けますとスムーズにご案内が可能です) \n今回の展示会は全商品8サイズ全てご試着可能となってございます。\n展開する全てのお色味もご覧頂けます。\n(展示会にて秋冬商品のご予約は、10%OFFにて承ります。) \n全ての会場が愛犬様と同伴入場が可能でございます。\n(ご来場時は、マナーパンツの着用をお願い致します。)\nお車でご来場の場合は、お近くの駐車場をご利用ください。 \n下記よりご来場予約をしていただけます。 \n[booking_package id=8]
URL:https://starboxx.jp/event/fall-winter-exibition2025%e3%80%80in-osaka/
LOCATION:MARU MARU MARU ○○○\, 北区天満橋1-2-17\, 大阪市\, 大阪府\, 530-0042\, 日本
CATEGORIES:展示会
ATTACH;FMTTYPE=image/jpeg:https://starboxx.jp/wp-content/uploads/2025/06/osaka_banner.jpg
END:VEVENT
BEGIN:VEVENT
DTSTART;VALUE=DATE:20250802
DTEND;VALUE=DATE:20250804
DTSTAMP:20260424T193431
CREATED:20250619T040438Z
LAST-MODIFIED:20250801T223421Z
UID:40143-1754092800-1754265599@starboxx.jp
SUMMARY:Fall winter exibition2025　in Fukuoka
DESCRIPTION:ご予約が無いお客様でもご入場いただけます。(ご予約頂けますとスムーズにご案内が可能です) \n今回の展示会は全商品8サイズ全てご試着可能となってございます。\n展開する全てのお色味もご覧頂けます。\n(展示会にて秋冬商品のご予約は、10%OFFにて承ります。) \n全ての会場が愛犬様と同伴入場が可能でございます。\n(ご来場時は、マナーパンツの着用をお願い致します。) \n下記よりご来場予約をしていただけます。 \n[booking_package id=9]
URL:https://starboxx.jp/event/fall-winter-exibition2025%e3%80%80in-fukuoka/
LOCATION:URBAN PORT SQUARE\, ２丁目１７−９\, 福岡市中央区港\, 福岡県\, 810-0075\, Japan
CATEGORIES:展示会
ATTACH;FMTTYPE=image/jpeg:https://starboxx.jp/wp-content/uploads/2025/06/fukuoka_banner.jpg
END:VEVENT
END:VCALENDAR