BEGIN:VCALENDAR
VERSION:2.0
PRODID:-//STARBOX - ECPv6.15.20//NONSGML v1.0//EN
CALSCALE:GREGORIAN
METHOD:PUBLISH
X-WR-CALNAME:STARBOX
X-ORIGINAL-URL:https://starboxx.jp
X-WR-CALDESC:STARBOX のイベント
REFRESH-INTERVAL;VALUE=DURATION:PT1H
X-Robots-Tag:noindex
X-PUBLISHED-TTL:PT1H
BEGIN:VTIMEZONE
TZID:Asia/Tokyo
BEGIN:STANDARD
TZOFFSETFROM:+0900
TZOFFSETTO:+0900
TZNAME:JST
DTSTART:20230101T000000
END:STANDARD
END:VTIMEZONE
BEGIN:VEVENT
DTSTART;TZID=Asia/Tokyo:20240601T100000
DTEND;TZID=Asia/Tokyo:20240602T170000
DTSTAMP:20260425T011429
CREATED:20240412T075205Z
LAST-MODIFIED:20240529T084031Z
UID:34742-1717236000-1717347600@starboxx.jp
SUMMARY:STARBOXx & LittleA単独展示会 - 東京 -
DESCRIPTION:2024年6月1日・2日の2日間 \nSTARBOXx初の単独展示会を開催いたします★ \n2024 FALL WINTERのアイテム展示・プレオーダーをいたします。\nその他、2024SSのアイテム販売やLittleAのアイテムも展示・販売いたします。 \n愛犬様同伴可能ですので、この機会にサイズのご相談など、ゆっくりお話をできればと思います。 \nぜひご来店くださいませ★ \n下記よりご来場予約をしていただくことで、スムーズにご案内をさせていただきます。 \n6/1 10:00 ~ 18:00 (最終入場 17:00) \n6/2 10:00 ~ 17:00 (最終入場 16:00)\n近隣駐車場からのルート\n \nご予約カレンダー\n[booking_package id=3]
URL:https://starboxx.jp/event/starboxx-littlea%e5%8d%98%e7%8b%ac%e5%b1%95%e7%a4%ba%e4%bc%9a-%e6%9d%b1%e4%ba%ac/
LOCATION:Studio HEIM\, HEIM Coffee内 3F\, 世田谷区松原3-30-11\, 東京都\, 日本
CATEGORIES:展示会
ATTACH;FMTTYPE=image/jpeg:https://starboxx.jp/wp-content/uploads/2024/04/展示会バナー.jpg
END:VEVENT
BEGIN:VEVENT
DTSTART;TZID=Asia/Tokyo:20240525T100000
DTEND;TZID=Asia/Tokyo:20240527T180000
DTSTAMP:20260425T011429
CREATED:20240415T055610Z
LAST-MODIFIED:20240418T022306Z
UID:34765-1716631200-1716832800@starboxx.jp
SUMMARY:STARBOXx & LittleA単独展示会 – 大阪 –
DESCRIPTION:2024年5月25日・26日の2日間 \nSTARBOXx初の単独展示会を開催いたします★ \n2024 FALL WINTERのアイテム展示・プレオーダーをいたします。\nその他、2024SSのアイテム販売やLittleAのアイテムも展示・販売いたします。 \n愛犬様同伴可能ですので、この機会にサイズのご相談など、ゆっくりお話をできればと思います。 \nぜひご来店くださいませ★ \n下記から来場予約をすることでスムーズにご案内させていただけます。 \nご予約カレンダー\n[booking_package id=1]
URL:https://starboxx.jp/event/starboxx-littlea%e5%8d%98%e7%8b%ac%e5%b1%95%e7%a4%ba%e4%bc%9a-%e5%a4%a7%e9%98%aa/
LOCATION:MARU MARU MARU ○○○\, 北区天満橋1-2-17\, 大阪市\, 大阪府\, 530-0042\, 日本
CATEGORIES:展示会
ATTACH;FMTTYPE=image/jpeg:https://starboxx.jp/wp-content/uploads/2024/04/展示会バナー.jpg
END:VEVENT
END:VCALENDAR